BEGIN:VCALENDAR
VERSION:2.0
PRODID:-//ELCA CLUSTER - ECPv5.16.1.1//NONSGML v1.0//EN
CALSCALE:GREGORIAN
METHOD:PUBLISH
X-ORIGINAL-URL:https://elcacluster.eu
X-WR-CALDESC:Events for ELCA CLUSTER
REFRESH-INTERVAL;VALUE=DURATION:PT1H
X-Robots-Tag:noindex
X-PUBLISHED-TTL:PT1H
BEGIN:VTIMEZONE
TZID:UTC
BEGIN:STANDARD
TZOFFSETFROM:+0000
TZOFFSETTO:+0000
TZNAME:UTC
DTSTART:20240101T000000
END:STANDARD
END:VTIMEZONE
BEGIN:VEVENT
DTSTART;TZID=UTC:20240405T110000
DTEND;TZID=UTC:20240405T120000
DTSTAMP:20260419T132804
CREATED:20240325T104450Z
LAST-MODIFIED:20240325T105129Z
UID:4037-1712314800-1712318400@elcacluster.eu
SUMMARY:SILEO Info Day for Hack Day Travel Vouchers - Romania
DESCRIPTION:05.04.2024 | 11:00 – 12:00 CETJoin us and learn more about general rules and requirements for participating in the SILEO Hack Day Travel Vouchers – Romania!The open call is dedicated to the participation at the “Navigating Challenges and Tech Solutions for SMEs in the furniture & lighting Industry” event\, organized by Cluster Mobilier Transilvan (Transylvanian Furniture Cluster) in Cluj-Napoca\, Romania on 13-14.06.2024. Register here: https://us06web.zoom.us/webinar/register/WN_63nlMUuRRYCJ8ErmAROkjg#/registrationThe webinar will be held in English and is open to all interested lighting and furniture SMEs and technology providers!To find out more about the Open Call visit our Submission Platform: https://clustersubmissionplatform.eu/eurocluster_post/sileo-open-call-travel-vouchers-romania/
URL:https://elcacluster.eu/event/sileo-info-day-for-hack-day-travel-vouchers-romania-3/
LOCATION:BE
CATEGORIES:ELCA EVENT
ATTACH;FMTTYPE=image/png:https://elcacluster.eu/wp-content/uploads/2024/03/Info-session_05.04.png
END:VEVENT
BEGIN:VEVENT
DTSTART;TZID=UTC:20240419T113000
DTEND;TZID=UTC:20240419T123000
DTSTAMP:20260419T132804
CREATED:20240408T160736Z
LAST-MODIFIED:20240408T160739Z
UID:4065-1713526200-1713529800@elcacluster.eu
SUMMARY:Unlocking SME Growth with Euroclusters
DESCRIPTION:CAFEIN partners are thrilled to announce the “Unlocking SME growth with Euroclusters” webinar set to take place on Friday\, 19 April\, at 11:30 CEST. \n\n\n\nThis unique event will bring together the leading lights from the Euroclusters participating in the “Clusters Submission Platform” to share invaluable insights on services\, tools\, and future opportunities designed specifically to propel SMEs towards success. \n\n\n\nAnticipate a deep dive into innovative strategies\, upcoming funding calls\, and the chance to engage with pioneers shaping the future of SME support. Whether you’re seeking growth opportunities\, keen on the latest industry trends\, or looking to network with key stakeholders\, this webinar promises to offer something for everyone. \n\n\n\nDon’t miss this opportunity to connect\, learn\, and grow. Mark your calendars and register at the following link.
URL:https://elcacluster.eu/event/unlocking-sme-growth-with-euroclusters/
LOCATION:BE
CATEGORIES:ELCA EVENT
ATTACH;FMTTYPE=image/jpeg:https://elcacluster.eu/wp-content/uploads/2024/04/CAFEIN-Webinar-Invitation-190424-v02_page-0001.jpg
END:VEVENT
BEGIN:VEVENT
DTSTART;TZID=UTC:20240424T143000
DTEND;TZID=UTC:20240424T160000
DTSTAMP:20260419T132804
CREATED:20240418T151325Z
LAST-MODIFIED:20240418T151327Z
UID:4082-1713969000-1713974400@elcacluster.eu
SUMMARY:EPIX INTERNATIONAL TRAINING ON SMART CITIES FUNDING OPPORTUNITIES!
DESCRIPTION:ELCA European Lighting Cluster Alliance is organizing an international training on the Smart Cities trends\, challenges & funding opportunities to support collaboration among clusters\, companies and cities! \n\n\n\n🗓 24.04.2024 | 14:30-16:00 \n\n\n\nThe training is open to EPIX project clusters and its associated companies\, and networking cities!For the registration link\, please contact Marta Krakowiak (SILEO Project Coordinator) | marta.krakowiak@elcacluster.eu
URL:https://elcacluster.eu/event/epix-international-training-on-smart-cities-funding-opportunities/
LOCATION:Online event
CATEGORIES:ELCA EVENT
ATTACH;FMTTYPE=image/png:https://elcacluster.eu/wp-content/uploads/2024/04/epix-international-training_24.04.24.png
ORGANIZER;CN="ELCA%20European%20Lighting%20Cluster%20Alliance":MAILTO:marta.krakowiak@elcacluster.eu
END:VEVENT
BEGIN:VEVENT
DTSTART;TZID=UTC:20240429T090000
DTEND;TZID=UTC:20240429T120000
DTSTAMP:20260419T132804
CREATED:20240408T160641Z
LAST-MODIFIED:20240408T160817Z
UID:4061-1714381200-1714392000@elcacluster.eu
SUMMARY:SILEO PROJECT – BIGDATA & AI FOR THE LIGHTING AND FURNISHINGS SECTOR
DESCRIPTION:TRAINING TO FOSTER THE ADOPTION OF BD & AI TECHNIQUES. ONLINE WEBINAR TO RAISE AWARENESS ON TOPICS RELATED TO TECHNIQUES\, WITH AN INTRODUCTORY APPROACH. \n\n\n\nA 3-hour introductory webinar to describe which techniques and technologies are underlying the domain of artificial intelligence that could promote potential applications in industrial companies (lighting and furniture): \n\n\n\nWhat is Big Data? Which technologies facilitate the expansion of this disciplineWhat is artificial intelligence? Which statistical techniques facilitate its promotionWhat types of AI are becoming relevant? Machine learning\, deep learning\, natural language processing\, supervised and unsupervised\, …What strategy should be identified to promote the adoption of artificial intelligence? Adopt a “data-driven” culture to promote the adoption of AI techniquesWhere to apply them in the company? Distinguish different types of AI and their applications and implications in different scenarios:Product design: What AI features are included in the product? => new “AI product features”\, i.e. control\, customization\, etc…Manufacturing process: What AI capabilities do they include in the process (control and automation)?Sales and post-sales activities: Which AI product features provide a new business and service model? New maintenance models\, results such as energy efficiency\, lighting efficiency and well-being efficiency\n\n\n\n \n\n\n\nMEET THE SPEAKERS: \n\n\n\n \n\n\n\nElisenda Martí: Technical Engineer in Industrial Design\, Design and Development of Industrial Products at the ELISAVA School of Design. Elisenda has a Master in Plastics and Components Engineering\, Design and Production of Industrial Plastic Products from the Fundació Politècnica de Catalunya and the Fundació ASCAMM\, and an Executive Master in Big Data Science from the International University of Catalonia. She is currently co-coordinator of the Executive Master in Advanced Analytics and Data Science at the Universitat Internacional de Catalunya. \n\n\n\nCarlos Cosials: Computer engineer at the Universitat Politècnica de Catalunya (UPC). Carlos holds a Bachelor of Business Administration (B.B.A.) from EADA Business School\, a postgraduate diploma in Supply Demand Chain from Esade and training in Design Management and Gamification. He is currently Industry 4.0 Manager at Integral Innovation Experts\, a business and operational consultancy company for the implementation of Industry 4.0 enabling solutions.
URL:https://elcacluster.eu/event/sileo-project-bigdata-ai-for-the-lighting-and-furnishings-sector/
LOCATION:BE
ATTACH;FMTTYPE=image/png:https://elcacluster.eu/wp-content/uploads/2024/04/sileo-masterclass-bigdata-ai-cicat.png
END:VEVENT
END:VCALENDAR