BEGIN:VCALENDAR
VERSION:2.0
PRODID:-//ELCA CLUSTER - ECPv5.16.1.1//NONSGML v1.0//EN
CALSCALE:GREGORIAN
METHOD:PUBLISH
X-ORIGINAL-URL:https://elcacluster.eu
X-WR-CALDESC:Events for ELCA CLUSTER
REFRESH-INTERVAL;VALUE=DURATION:PT1H
X-Robots-Tag:noindex
X-PUBLISHED-TTL:PT1H
BEGIN:VTIMEZONE
TZID:UTC
BEGIN:STANDARD
TZOFFSETFROM:+0000
TZOFFSETTO:+0000
TZNAME:UTC
DTSTART:20240101T000000
END:STANDARD
END:VTIMEZONE
BEGIN:VEVENT
DTSTART;TZID=UTC:20240312T093000
DTEND;TZID=UTC:20240312T103000
DTSTAMP:20260419T150532
CREATED:20240227T160112Z
LAST-MODIFIED:20240227T160114Z
UID:3971-1710235800-1710239400@elcacluster.eu
SUMMARY:SILEO Info Day for the 1st Open Call for Advanced Tech Projects
DESCRIPTION:𝗦𝗜𝗟𝗘𝗢 𝗶𝗻𝗳𝗼 𝘀𝗲𝘀𝘀𝗶𝗼𝗻 𝗳𝗼𝗿 𝘁𝗵𝗲 𝟭𝘀𝘁 𝗢𝗽𝗲𝗻 𝗖𝗮𝗹𝗹 𝗳𝗼𝗿 𝗔𝗱𝘃𝗮𝗻𝗰𝗲𝗱 𝗧𝗲𝗰𝗵𝗻𝗼𝗹𝗼𝗴𝘆 𝗨𝗽𝘁𝗮𝗸𝗲 𝗣𝗿𝗼𝗷𝗲𝗰𝘁𝘀 \n\n\n\nJoin us online on 𝟭𝟮.𝟬𝟯.𝟮𝟬𝟮𝟰 𝗮𝘁 𝟬𝟵:𝟯𝟬 to learn more about the SILEO 1° Open Call for Advanced Technology Uptake Projects\, how and where to apply!  \n\n\n\n𝗥𝗲𝗴𝗶𝘀𝘁𝗲𝗿 𝗻𝗼𝘄: https://us06web.zoom.us/webinar/register/WN_Nek4fKMPQ7Cg1o-J61szGg \n\n\n\nThe webinar will be held in English and is open to all interested lighting and furniture SMEs and technology providers! \n\n\n\nVisit our application portal and submit your advanced technology uptake project proposal here: https://clustersubmissionplatform.eu/eurocluster_post/sileo-1st-open-call-for-advanced-tech-projects/
URL:https://elcacluster.eu/event/sileo-info-day-for-the-1st-open-call-for-advanced-tech-projects/
LOCATION:BE
CATEGORIES:ELCA EVENT
ATTACH;FMTTYPE=image/png:https://elcacluster.eu/wp-content/uploads/2024/02/SILEO-INFO-WEBINAR-call-1.png
ORGANIZER;CN="ELCA%20European%20Lighting%20Cluster%20Alliance":MAILTO:marta.krakowiak@elcacluster.eu
END:VEVENT
BEGIN:VEVENT
DTSTART;TZID=UTC:20240320T090000
DTEND;TZID=UTC:20240320T110000
DTSTAMP:20260419T150533
CREATED:20240308T093111Z
LAST-MODIFIED:20240308T093112Z
UID:3987-1710925200-1710932400@elcacluster.eu
SUMMARY:SILEO Workshop "BIM philosophy in the lighting and furniture sector"
DESCRIPTION:Rete di Imprese Luce in Veneto organizes an online upskilling workshop to explore the fundamentals of Building Information Modeling (BIM) and its practical applications within the lighting and furniture sectors. \n\n\n\nThrough interactive sessions\, the expert Roberto Dallavilla\, technical director of Skeinholding\, an international organisation focused on the implementation and distribution of Virtual and Augmented Reality services\, digitisation of marketing and online commerce\, and image scripting technologies\, will guide companies and cluster managers on the importance of BIM simulation\, the benefits and tools\, and case studies showing how BIM is used in the lighting and furniture industry. \n\n\n\nThis workshop\, as a part of the SILEO Eurocluster project\, is free and open to clusters and companies of the Consortium! \n\n\n\n \n\n\n\nContact Antonella Venza (RETE DI IMPRESE LUCE IN VENETO)\, antonella.venza@luceinveneto.com for more information and the registration process!
URL:https://elcacluster.eu/event/sileo-workshop-bim-philosophy-in-the-lighting-and-furniture-sector/
LOCATION:BE
ATTACH;FMTTYPE=image/png:https://elcacluster.eu/wp-content/uploads/2024/03/Webinar-1.png
ORGANIZER;CN="Rete%20di%20Imprese%20Luce%20in%20Veneto":MAILTO:info@luceinveneto.com
END:VEVENT
BEGIN:VEVENT
DTSTART;TZID=UTC:20240326T090000
DTEND;TZID=UTC:20240326T110000
DTSTAMP:20260419T150533
CREATED:20240308T094211Z
LAST-MODIFIED:20240308T094306Z
UID:3991-1711443600-1711450800@elcacluster.eu
SUMMARY:SILEO workshop on "Augmented and Virtual Reality"
DESCRIPTION:Rete di Imprese Luce in Veneto organizes an online upskilling workshop to deep dive into the AR/VR\, a technologies that are revolutionising the market and its applications. \n\n\n\nThrough interactive sessions\, the expert Roberto Dallavilla\, technical director of Skeinholding\, an international organisation focused on the implementation and distribution of Virtual and Augmented Reality services\, digitisation of marketing and online commerce\, and image scripting technologies\, will guide companies and cluster managers on how to integrate AR/VR solutions into the lighting and furniture sector and its potential benefits for SMEs! \n\n\n\n \n\n\n\nThis workshop\, as a part of the SILEO Eurocluster project\, is free and open to clusters and companies of the Consortium! \n\n\n\nContact Antonella Venza (RETE DI IMPRESE LUCE IN VENETO)\, antonella.venza@luceinveneto.com for more information and the registration process!
URL:https://elcacluster.eu/event/sileo-workshop-on-augmented-and-virtual-reality%ef%bf%bc/
LOCATION:BE
ATTACH;FMTTYPE=image/png:https://elcacluster.eu/wp-content/uploads/2024/03/Webinar-2.png
ORGANIZER;CN="Rete%20di%20Imprese%20Luce%20in%20Veneto":MAILTO:info@luceinveneto.com
END:VEVENT
END:VCALENDAR