BEGIN:VCALENDAR
VERSION:2.0
PRODID:-//ELCA CLUSTER - ECPv5.16.1.1//NONSGML v1.0//EN
CALSCALE:GREGORIAN
METHOD:PUBLISH
X-WR-CALNAME:ELCA CLUSTER
X-ORIGINAL-URL:https://elcacluster.eu
X-WR-CALDESC:Events for ELCA CLUSTER
REFRESH-INTERVAL;VALUE=DURATION:PT1H
X-Robots-Tag:noindex
X-PUBLISHED-TTL:PT1H
BEGIN:VTIMEZONE
TZID:UTC
BEGIN:STANDARD
TZOFFSETFROM:+0000
TZOFFSETTO:+0000
TZNAME:UTC
DTSTART:20230101T000000
END:STANDARD
END:VTIMEZONE
BEGIN:VEVENT
DTSTART;TZID=UTC:20231205T090000
DTEND;TZID=UTC:20231205T110000
DTSTAMP:20260420T073723
CREATED:20231025T103105Z
LAST-MODIFIED:20231025T103107Z
UID:3729-1701766800-1701774000@elcacluster.eu
SUMMARY:3° SILEO online workshop: “Bio-based materials”
DESCRIPTION:In the framework of the SILEO training programme on MATERIALS & SUSTAINABILITY\, the 3° appointment will address the use of bio-based materials for durable and disposable applications\, analysing the main concepts and alternative materials\, including edible packaging applied to the lighting and furniture business environments. \n\n\n\nThe online Zoom meeting will be held in English by expert Anna Pellizzari from Materially. \n\n\n\nThe training programme is free and open to clusters and companies of the SILEO Eurocluster project! \n\n\n\nContact Marta Krakowiak\, marta.krakowiak@elcacluster.eu for more information and the registration process!
URL:https://elcacluster.eu/event/3-sileo-online-workshop-bio-based-materials/
LOCATION:BE
ATTACH;FMTTYPE=image/jpeg:https://elcacluster.eu/wp-content/uploads/2023/10/SILEO-Upskilling-training-programme_3°-workshop.jpg
ORGANIZER;CN="Rete%20di%20Imprese%20Luce%20in%20Veneto":MAILTO:info@luceinveneto.com
END:VEVENT
BEGIN:VEVENT
DTSTART;TZID=UTC:20231214T100000
DTEND;TZID=UTC:20231214T110000
DTSTAMP:20260420T073723
CREATED:20231127T140922Z
LAST-MODIFIED:20231127T140924Z
UID:3832-1702548000-1702551600@elcacluster.eu
SUMMARY:#1 SILEO Info Webinar - Talent Placement Projects
DESCRIPTION:ELCA European Lighting Cluster Alliance (SILEO Coordinator) is organizing 2 online INFO WEBINAR for the SILEO Open Call for Talent Placement Projects! \n\n\n\nAll European lighting and furniture SMEs and stakeholders are invited to join us on 14 December 2023 at 10:00 CET to discover more about how to apply for the Talent Placement Projects\, Guidelines\, the application process on the SILEO Submission Platform\, and the eligibility criteria! \n\n\n\nLearn more about the SILEO Open Call for Talent Placement Projects here!
URL:https://elcacluster.eu/event/1-sileo-info-webinar-talent-placement-projects/
LOCATION:BE
ATTACH;FMTTYPE=image/png:https://elcacluster.eu/wp-content/uploads/2023/11/169-EVENTI-WEBSITE-LIV.png
ORGANIZER;CN="ELCA%20European%20Lighting%20Cluster%20Alliance":MAILTO:marta.krakowiak@elcacluster.eu
END:VEVENT
END:VCALENDAR