BEGIN:VCALENDAR
VERSION:2.0
PRODID:-//ELCA CLUSTER - ECPv5.16.1.1//NONSGML v1.0//EN
CALSCALE:GREGORIAN
METHOD:PUBLISH
X-ORIGINAL-URL:https://elcacluster.eu
X-WR-CALDESC:Events for ELCA CLUSTER
REFRESH-INTERVAL;VALUE=DURATION:PT1H
X-Robots-Tag:noindex
X-PUBLISHED-TTL:PT1H
BEGIN:VTIMEZONE
TZID:UTC
BEGIN:STANDARD
TZOFFSETFROM:+0000
TZOFFSETTO:+0000
TZNAME:UTC
DTSTART:20230101T000000
END:STANDARD
END:VTIMEZONE
BEGIN:VEVENT
DTSTART;TZID=UTC:20231114T090000
DTEND;TZID=UTC:20231114T110000
DTSTAMP:20260422T121254
CREATED:20231025T102731Z
LAST-MODIFIED:20231025T102819Z
UID:3716-1699952400-1699959600@elcacluster.eu
SUMMARY:1° SILEO online workshop: “Life Cycle of materials”
DESCRIPTION:The SILEO upskilling training programme on MATERIALS & SUSTAINABILITY in the furniture and lighting sector organized by Rete di Imprese Luce in Veneto\, is finally ready to start! \n\n\n\nDuring the 1° online workshop\, expert Anna Pellizzari from Materially\, will explore how materials can help implement sustainability and circular economy business strategies throughout their life cycle\, and deep dive into the importance of Life Cycle Assessment (LCA). \n\n\n\nThe lessons will highlight trend topics and practical examples relevant to the lighting and furniture industrial ecosystems. \n\n\n\nThe training programme is free and open to clusters and companies of the SILEO Eurocluster project! \n\n\n\nContact Marta Krakowiak\, marta.krakowiak@elcacluster.eu for more information and the registration process!
URL:https://elcacluster.eu/event/1-sileo-online-workshop-life-cycle-of-materials/
LOCATION:Online – Zoom Platform
ATTACH;FMTTYPE=image/jpeg:https://elcacluster.eu/wp-content/uploads/2023/10/SILEO-Upskilling-training-programme_1°-workshop.jpg
ORGANIZER;CN="Rete%20di%20Imprese%20Luce%20in%20Veneto":MAILTO:info@luceinveneto.com
END:VEVENT
BEGIN:VEVENT
DTSTART;TZID=UTC:20231121T090000
DTEND;TZID=UTC:20231121T110000
DTSTAMP:20260422T121254
CREATED:20231025T102950Z
LAST-MODIFIED:20231025T102953Z
UID:3727-1700557200-1700564400@elcacluster.eu
SUMMARY: 2° SILEO online workshop: “Recycling Loop”
DESCRIPTION:Within the SILEO upskilling training programme on MATERIALS & SUSTAINABILITY\, the 2° online meeting will focus on various aspects of recycling\, from recycled materials in the lighting and furniture sector. \n\n\n\nExpert Anna Pellizzari from Materially will guide companies and clusters into the recycling process in Italy and Europe\, related schemes and specific certifications. \n\n\n\nThe training programme is free and open to clusters and companies of the SILEO Eurocluster project! \n\n\n\nContact Marta Krakowiak\, marta.krakowiak@elcacluster.eu for more information and the registration process!
URL:https://elcacluster.eu/event/2-sileo-online-workshop-recycling-loop/
LOCATION:BE
ATTACH;FMTTYPE=image/jpeg:https://elcacluster.eu/wp-content/uploads/2023/10/SILEO-Upskilling-training-programme_2°-workshop.jpg
ORGANIZER;CN="Rete%20di%20Imprese%20Luce%20in%20Veneto":MAILTO:info@luceinveneto.com
END:VEVENT
END:VCALENDAR