BEGIN:VCALENDAR
VERSION:2.0
PRODID:-//ELCA CLUSTER - ECPv5.16.1.1//NONSGML v1.0//EN
CALSCALE:GREGORIAN
METHOD:PUBLISH
X-WR-CALNAME:ELCA CLUSTER
X-ORIGINAL-URL:https://elcacluster.eu
X-WR-CALDESC:Events for ELCA CLUSTER
REFRESH-INTERVAL;VALUE=DURATION:PT1H
X-Robots-Tag:noindex
X-PUBLISHED-TTL:PT1H
BEGIN:VTIMEZONE
TZID:UTC
BEGIN:STANDARD
TZOFFSETFROM:+0000
TZOFFSETTO:+0000
TZNAME:UTC
DTSTART:20240101T000000
END:STANDARD
END:VTIMEZONE
BEGIN:VEVENT
DTSTART;TZID=UTC:20240226T093000
DTEND;TZID=UTC:20240226T113000
DTSTAMP:20260419T234609
CREATED:20240208T114000Z
LAST-MODIFIED:20240208T114001Z
UID:3930-1708939800-1708947000@elcacluster.eu
SUMMARY:SILEO Info Webinar for the 2° Call for Business Digital Transformation Projects
DESCRIPTION:On 26.02.2024 at 09:30 join us and learn more about the general rules and requirements for participating in the SILEO 2° Open Call for Business Digital Transformation Projects! \n\n\n\nRegister NOW! \n\n\n\nThe webinar will be held in English and is open to all interested lighting and furniture SMEs and technology providers! \n\n\n\n \n\n\n\nABOUT THE OPEN CALL FOR BUSINESS DIGITAL TRANSFORMATION PROJECTS \n\n\n\nUp to € 5.000 for lighting and furniture SMEs to collaborate with technology providers selected from the SILEO Pool of Technology Uptake Facilitators and access expert consultancy to boost their business digital and green transition. \n\n\n\nTo find out more about the Open Call visit our Submission Platform HERE.
URL:https://elcacluster.eu/event/sileo-info-webinar-for-the-2-call-for-business-digital-transformation-projects/
LOCATION:BE
ATTACH;FMTTYPE=image/png:https://elcacluster.eu/wp-content/uploads/2024/02/SILEO-INFO-WEBINAR-call.png
ORGANIZER;CN="ELCA%20European%20Lighting%20Cluster%20Alliance":MAILTO:marta.krakowiak@elcacluster.eu
END:VEVENT
END:VCALENDAR