BEGIN:VCALENDAR
VERSION:2.0
PRODID:-//ELCA CLUSTER - ECPv5.16.1.1//NONSGML v1.0//EN
CALSCALE:GREGORIAN
METHOD:PUBLISH
X-WR-CALNAME:ELCA CLUSTER
X-ORIGINAL-URL:https://elcacluster.eu
X-WR-CALDESC:Events for ELCA CLUSTER
REFRESH-INTERVAL;VALUE=DURATION:PT1H
X-Robots-Tag:noindex
X-PUBLISHED-TTL:PT1H
BEGIN:VTIMEZONE
TZID:UTC
BEGIN:STANDARD
TZOFFSETFROM:+0000
TZOFFSETTO:+0000
TZNAME:UTC
DTSTART:20240101T000000
END:STANDARD
END:VTIMEZONE
BEGIN:VEVENT
DTSTART;TZID=UTC:20240212T103000
DTEND;TZID=UTC:20240212T120000
DTSTAMP:20260420T025517
CREATED:20240206T105642Z
LAST-MODIFIED:20240206T105816Z
UID:3922-1707733800-1707739200@elcacluster.eu
SUMMARY:IPRs Challenges in the Construction Sector in Brazil
DESCRIPTION:ELCA and the ICBUILD partners invite lighting SMEs interested in the Brazilian market to join an info session organized in collaboration with the Latin America IP SME Helpdesk and Eurochambers. \n\n\n\nThis session aims to delve into the world of Intellectual Property Rights (IPR) and the challenges European SMEs face in entering the Brazilian market. The session will provide valuable insights into the types of IPRs available\, why they are crucial for SMEs\, and the considerations involved in deciding whether to pursue official protection. \n\n\n\n \n\n\n\nREGISTER NOW! \n\n\n\nYou can expect to learn:– The unique challenges faced by European SMEs entering the Brazilian market when seeking registration and defense of their IPRs– Overview of different types of IPR: patents\, trademarks\, and designs– Case studies illustrating successful IPR strategies adopted by SMEs.Participants can engage with the speakers\, asking questions and seeking personalized advice. \n\n\n\n \n\n\n\n \n\n\n\nAgenda \n\n\n\n10:30Welcome words10:40Presentation of the ICBUILD project and its activities and mission in Brazil11:00Latin America IP SME Helpdesk – Intellectual Property Protection in Brazil11:50Q&A12:00Closure
URL:https://elcacluster.eu/event/iprs-challenges-in-the-construction-sector-in-brazil/
LOCATION:BE
ATTACH;FMTTYPE=image/png:https://elcacluster.eu/wp-content/uploads/2024/02/2024-02-12_Brazil.png
END:VEVENT
END:VCALENDAR