BEGIN:VCALENDAR
VERSION:2.0
PRODID:-//ELCA CLUSTER - ECPv5.16.1.1//NONSGML v1.0//EN
CALSCALE:GREGORIAN
METHOD:PUBLISH
X-WR-CALNAME:ELCA CLUSTER
X-ORIGINAL-URL:https://elcacluster.eu
X-WR-CALDESC:Events for ELCA CLUSTER
REFRESH-INTERVAL;VALUE=DURATION:PT1H
X-Robots-Tag:noindex
X-PUBLISHED-TTL:PT1H
BEGIN:VTIMEZONE
TZID:UTC
BEGIN:STANDARD
TZOFFSETFROM:+0000
TZOFFSETTO:+0000
TZNAME:UTC
DTSTART:20240101T000000
END:STANDARD
END:VTIMEZONE
BEGIN:VEVENT
DTSTART;TZID=UTC:20240130T090000
DTEND;TZID=UTC:20240130T110000
DTSTAMP:20260420T043017
CREATED:20231025T103210Z
LAST-MODIFIED:20231025T103213Z
UID:3731-1706605200-1706612400@elcacluster.eu
SUMMARY:4° SILEO online workshop: “Industrial waste management”
DESCRIPTION:During the last SILEO online training\, expert Anna Pellizzari (Materially) will explore the topic of industrial waste management\, waste disposal\, and the possible reuse of waste from different sectors as raw materials to create new materials for the lighting and furniture supply chain. \n\n\n\nCompanies and clusters will have the opportunity to deepen the topic of waste management with practical examples and trend analysis applied in industrial sectors. \n\n\n\nThe training programme is free and open to clusters and companies of the SILEO Eurocluster project! \n\n\n\nContact Marta Krakowiak\, marta.krakowiak@elcacluster.eu for more information and the registration process!
URL:https://elcacluster.eu/event/4-sileo-online-workshop-industrial-waste-management/
LOCATION:BE
ATTACH;FMTTYPE=image/jpeg:https://elcacluster.eu/wp-content/uploads/2023/10/SILEO-Upskilling-training-programme_4°-workshop.jpg
ORGANIZER;CN="Rete%20di%20Imprese%20Luce%20in%20Veneto":MAILTO:info@luceinveneto.com
END:VEVENT
END:VCALENDAR