BEGIN:VCALENDAR
VERSION:2.0
PRODID:-//ELCA CLUSTER - ECPv5.16.1.1//NONSGML v1.0//EN
CALSCALE:GREGORIAN
METHOD:PUBLISH
X-WR-CALNAME:ELCA CLUSTER
X-ORIGINAL-URL:https://elcacluster.eu
X-WR-CALDESC:Events for ELCA CLUSTER
REFRESH-INTERVAL;VALUE=DURATION:PT1H
X-Robots-Tag:noindex
X-PUBLISHED-TTL:PT1H
BEGIN:VTIMEZONE
TZID:UTC
BEGIN:STANDARD
TZOFFSETFROM:+0000
TZOFFSETTO:+0000
TZNAME:UTC
DTSTART:20240101T000000
END:STANDARD
END:VTIMEZONE
BEGIN:VEVENT
DTSTART;TZID=UTC:20240111T100000
DTEND;TZID=UTC:20240111T110000
DTSTAMP:20260422T092322
CREATED:20231222T082422Z
LAST-MODIFIED:20231222T082521Z
UID:3878-1704967200-1704970800@elcacluster.eu
SUMMARY:#2 SILEO Info Webinar: How to apply for Talent Placement Projects
DESCRIPTION:ELCA European Lighting Cluster Alliance (SILEO Coordinator) organizes the #2 online INFO WEBINAR for the SILEO Open Call for Talent Placement Projects! \n\n\n\nAll European lighting and furniture SMEs\, talents and stakeholders are invited to join us online on 11 January at 10:00 CET to discover more about how to apply for the Talent Placement Projects\, Guidelines\, the application process on the SILEO Submission Platform\, and the eligibility criteria! \n\n\n\nThe webinar will be held in English via Zoom platform. \n\n\n\n➞ Submit your talent project proposal via the Submission Platform here!
URL:https://elcacluster.eu/event/1-sileo-info-webinar-how-to-apply-for-talent-placement-projects/
LOCATION:BE
CATEGORIES:ELCA EVENT
ATTACH;FMTTYPE=image/png:https://elcacluster.eu/wp-content/uploads/2023/11/169-EVENTI-WEBSITE-LIV.png
ORGANIZER;CN="ELCA%20European%20Lighting%20Cluster%20Alliance":MAILTO:marta.krakowiak@elcacluster.eu
END:VEVENT
END:VCALENDAR