BEGIN:VCALENDAR
VERSION:2.0
PRODID:-//ELCA CLUSTER - ECPv5.16.1.1//NONSGML v1.0//EN
CALSCALE:GREGORIAN
METHOD:PUBLISH
X-WR-CALNAME:ELCA CLUSTER
X-ORIGINAL-URL:https://elcacluster.eu
X-WR-CALDESC:Events for ELCA CLUSTER
REFRESH-INTERVAL;VALUE=DURATION:PT1H
X-Robots-Tag:noindex
X-PUBLISHED-TTL:PT1H
BEGIN:VTIMEZONE
TZID:UTC
BEGIN:STANDARD
TZOFFSETFROM:+0000
TZOFFSETTO:+0000
TZNAME:UTC
DTSTART:20230101T000000
END:STANDARD
END:VTIMEZONE
BEGIN:VEVENT
DTSTART;TZID=UTC:20230420T103000
DTEND;TZID=UTC:20230420T113000
DTSTAMP:20260423T114048
CREATED:20230417T143850Z
LAST-MODIFIED:20230417T143944Z
UID:3541-1681986600-1681990200@elcacluster.eu
SUMMARY:SILEO project – INFO SESSION – SILEO 1° OPEN CALL for Business Digital Transformation Projects!
DESCRIPTION:The first SILEO Eurocluster Open Call has been launched today at 10:00 CEST and it will stay open until 20 June 2023 at 17:00 CEST! \n\n\n\nDiscover more about the funding opportunities for lighting and furniture SMEs under the 1° Open Call for Business Digital Transformation Projects during our info session at Salone del Mobile (Room Sala Gamma 9) in Milan\, Italy on 20 April 2023\, at 10:30 – 11:30 CEST. \n\n\n\nDuring the Event\, SILEO partners ELCA European Lighting Cluster Alliance and Rete di Imprese Luce in Veneto will present the eligibility criteria and the Applicant Guidelines of the 1° Open Call for Business Digital Transformation Projects. \n\n\n\nThe Event is organized in English and in presence. \n\n\n\nRegistration to the Event: https://www.eventbrite.it/e/sileo-1-call-for-business-digital-transformation-projects-info-session-tickets-619033394547 \n\n\n\nFor more information about our 1° Open Call for Business Digital Transformation Projects: https://clustersubmissionplatform.eu/eurocluster_post/business-digital-transformation-projects-1st-open-call/
URL:https://elcacluster.eu/event/sileo-project-info-session-sileo-1-open-call-for-business-digital-transformation-projects/
LOCATION:BE
ATTACH;FMTTYPE=image/png:https://elcacluster.eu/wp-content/uploads/2023/04/sileo_news-info-session-1.png
END:VEVENT
BEGIN:VEVENT
DTSTART;TZID=UTC:20230420T120000
DTEND;TZID=UTC:20230420T130000
DTSTAMP:20260423T114048
CREATED:20230417T143658Z
LAST-MODIFIED:20230417T143917Z
UID:3538-1681992000-1681995600@elcacluster.eu
SUMMARY:ECOSLIGHT project – FINAL CONFERENCE
DESCRIPTION:ECOSLIGHT 𝗽𝗿𝗼𝗷𝗲𝗰𝘁 𝗙𝗶𝗻𝗮𝗹 𝗖𝗼𝗻𝗳𝗲𝗿𝗲𝗻𝗰𝗲 at the Salone del Mobile 2023 \n\n\n\n📅 When? 𝗼𝗻 𝟮𝟬.𝟬𝟰.𝟮𝟬𝟮𝟯 𝗮𝘁 𝟭𝟮:𝟬𝟬 – 𝟭𝟯:𝟬𝟬 𝗖𝗘𝗦𝗧📍 Where? 𝗦𝗮𝗹𝗼𝗻𝗲 𝗱𝗲𝗹 𝗠𝗼𝗯𝗶𝗹𝗲\, 𝗠𝗶𝗹𝗮𝗻 𝗥𝗛𝗢 – 𝗦𝗮𝗹𝗮 𝗚𝗮𝗺𝗺𝗮 𝟵 \n\n\n\nErasmus+ project ECOSLIGHT is reaching its end!Join our Consortium and attend the Final Conference\, where ELCA European Lighting Cluster Alliance and Hellenic Open University will present the project’s main results & achievements\, MOOC training programs “𝙀𝙨𝙨𝙚𝙣𝙩𝙞𝙖𝙡 𝙨𝙠𝙞𝙡𝙡𝙨 𝙛𝙤𝙧 𝙚𝙣𝙫𝙞𝙧𝙤𝙣𝙢𝙚𝙣𝙩𝙖𝙡𝙡𝙮 𝙘𝙤𝙣𝙨𝙘𝙞𝙤𝙪𝙨 𝙨𝙢𝙖𝙧𝙩 𝙡𝙞𝙜𝙝𝙩𝙞𝙣𝙜 𝙥𝙧𝙤𝙛𝙚𝙨𝙨𝙞𝙤𝙣𝙖𝙡𝙨”\, Specialization course for lighting professionals and follow-up initiatives. \n\n\n\nDuring the event\, we will also host lighting professionals and SMEs – Arch. Roberto Corradini & Silvia Betteto\, Elesi Luce Srl\, who have “𝘨𝘳𝘢𝘥𝘶𝘢𝘵𝘦𝘥” from the ECOSLIGHTVET course\, and will testify about their experiences. 💫 \n\n\n\n𝘛𝘩𝘦 𝘍𝘪𝘯𝘢𝘭 𝘊𝘰𝘯𝘧𝘦𝘳𝘦𝘯𝘤𝘦 is 𝘰𝘳𝘨𝘢𝘯𝘪𝘻𝘦𝘥 𝘪𝘯 𝘢 𝘩𝘺𝘣𝘳𝘪𝘥 𝘧𝘰𝘳𝘮𝘢𝘵\, 𝘪𝘯 𝘱𝘳𝘦𝘴𝘦𝘯𝘤𝘦 𝘢𝘵 𝘵𝘩𝘦 𝘚𝘢𝘭𝘰𝘯𝘦 𝘥𝘦𝘭 𝘔𝘰𝘣𝘪𝘭𝘦 𝘪𝘯 𝘔𝘪𝘭𝘢𝘯𝘰 𝘐𝘵𝘢𝘭𝘺\, 𝘢𝘯𝘥 𝘰𝘯𝘭𝘪𝘯𝘦. 𝘐𝘵 𝘪𝘴 𝘰𝘱𝘦𝘯 𝘵𝘰 𝘢𝘭𝘭\, 𝘧𝘰𝘳 𝘵𝘩𝘦 𝘳𝘦𝘨𝘪𝘴𝘵𝘳𝘢𝘵𝘪𝘰𝘯 𝘭𝘪𝘯𝘬 👉 https://lnkd.in/gbHxTidJ \n\n\n\nWe look forward to meeting you in Milan and online!
URL:https://elcacluster.eu/event/ecoslight-project-final-conference/
LOCATION:BE
ATTACH;FMTTYPE=image/png:https://elcacluster.eu/wp-content/uploads/2023/04/ECOSLIGHT_FinalConference_news.png
END:VEVENT
END:VCALENDAR